BEGIN:VCALENDAR
VERSION:2.0
PRODID:-//Les voleurs de lumière - ECPv6.15.20//NONSGML v1.0//EN
CALSCALE:GREGORIAN
METHOD:PUBLISH
X-WR-CALNAME:Les voleurs de lumière
X-ORIGINAL-URL:https://xn--lesvoleursdelumire-6vb.com
X-WR-CALDESC:Évènements pour Les voleurs de lumière
REFRESH-INTERVAL;VALUE=DURATION:PT1H
X-Robots-Tag:noindex
X-PUBLISHED-TTL:PT1H
BEGIN:VTIMEZONE
TZID:Europe/Paris
BEGIN:DAYLIGHT
TZOFFSETFROM:+0100
TZOFFSETTO:+0200
TZNAME:CEST
DTSTART:20250330T010000
END:DAYLIGHT
BEGIN:STANDARD
TZOFFSETFROM:+0200
TZOFFSETTO:+0100
TZNAME:CET
DTSTART:20251026T010000
END:STANDARD
BEGIN:DAYLIGHT
TZOFFSETFROM:+0100
TZOFFSETTO:+0200
TZNAME:CEST
DTSTART:20260329T010000
END:DAYLIGHT
BEGIN:STANDARD
TZOFFSETFROM:+0200
TZOFFSETTO:+0100
TZNAME:CET
DTSTART:20261025T010000
END:STANDARD
BEGIN:DAYLIGHT
TZOFFSETFROM:+0100
TZOFFSETTO:+0200
TZNAME:CEST
DTSTART:20270328T010000
END:DAYLIGHT
BEGIN:STANDARD
TZOFFSETFROM:+0200
TZOFFSETTO:+0100
TZNAME:CET
DTSTART:20271031T010000
END:STANDARD
END:VTIMEZONE
BEGIN:VEVENT
DTSTART;TZID=Europe/Paris:20260428T183000
DTEND;TZID=Europe/Paris:20260428T203000
DTSTAMP:20260424T163651
CREATED:20260403T102743Z
LAST-MODIFIED:20260403T142417Z
UID:2483-1777401000-1777408200@xn--lesvoleursdelumire-6vb.com
SUMMARY:Réunion du club
DESCRIPTION:Thème du mois: Racines  \n  \n  \n\nVisualisation de nos images prises dans le jardin de Wandlitz (2 photos maxi)\n 
URL:https://xn--lesvoleursdelumire-6vb.com/evenements/reunion-du-club-6/
LOCATION:Salle des chênes\, 36 rue de la chapelle\, La Ferrière\, Vendée\, 85280\, France
END:VEVENT
BEGIN:VEVENT
DTSTART;VALUE=DATE:20260509
DTEND;VALUE=DATE:20260510
DTSTAMP:20260424T163651
CREATED:20260418T131310Z
LAST-MODIFIED:20260418T131321Z
UID:2558-1778284800-1778371199@xn--lesvoleursdelumire-6vb.com
SUMMARY:Sortie photo
DESCRIPTION:Nouvelle date de sortie\, le samedi 9 mai : \nMort d’eau (faible amplitude des marées) 37-35 à 10h30. \nRDV pour un pique-nique au Prieuré Saint-Nicolas à la Chaume. \nPour les lève-tôt\, belle lumière au lever du soleil. \nPour les couche-tard\, la fin de journée est propice à faire de beaux clichés. \nChacun pourra gérer sa journée comme il l’entend. \nA vos boîtiers 📸 \n 
URL:https://xn--lesvoleursdelumire-6vb.com/evenements/sortie-photo/
LOCATION:La Chaume\, Prieuré de St Nicolas\, La Chaume - Les Sables d'Olonne\, Vendée\, 85100\, France
END:VEVENT
BEGIN:VEVENT
DTSTART;TZID=Europe/Paris:20260512T183000
DTEND;TZID=Europe/Paris:20260512T183000
DTSTAMP:20260424T163651
CREATED:20260403T104148Z
LAST-MODIFIED:20260403T143036Z
UID:2487-1778610600-1778610600@xn--lesvoleursdelumire-6vb.com
SUMMARY:Réunion du club
DESCRIPTION:Visualisation de nos plus belles images de la sortie aux Sables d’Olonne\n\n\nPoint complet « Histoire de faire N°5 » Les Bénévoles
URL:https://xn--lesvoleursdelumire-6vb.com/evenements/reunion-du-club-7/
LOCATION:Salle des chênes\, 36 rue de la chapelle\, La Ferrière\, Vendée\, 85280\, France
END:VEVENT
BEGIN:VEVENT
DTSTART;TZID=Europe/Paris:20260528T183000
DTEND;TZID=Europe/Paris:20260528T203000
DTSTAMP:20260424T163651
CREATED:20260403T104638Z
LAST-MODIFIED:20260403T132036Z
UID:2492-1779993000-1780000200@xn--lesvoleursdelumire-6vb.com
SUMMARY:Réunion du club
DESCRIPTION:Thème photographique : » là où je t’emmènerai »
URL:https://xn--lesvoleursdelumire-6vb.com/evenements/reunion-du-club-8/
LOCATION:Pôle culturel\, salle des Bruyères 36 rue de la Chapelle\, 36\, rue de la Chapelle\, LA FERRIERE\, 85280\, France
END:VEVENT
BEGIN:VEVENT
DTSTART;TZID=Europe/Paris:20260611T183000
DTEND;TZID=Europe/Paris:20260611T203000
DTSTAMP:20260424T163651
CREATED:20260403T132923Z
LAST-MODIFIED:20260403T133011Z
UID:2495-1781202600-1781209800@xn--lesvoleursdelumire-6vb.com
SUMMARY:Réunion du club
DESCRIPTION:Thème : Photo mystère
URL:https://xn--lesvoleursdelumire-6vb.com/evenements/reunion-du-clul/
LOCATION:Pôle culturel\, 36 rue de la chapelle\, La Ferrière\, Vendée\, 85280\, France
END:VEVENT
BEGIN:VEVENT
DTSTART;TZID=Europe/Paris:20260625T183000
DTEND;TZID=Europe/Paris:20260625T220000
DTSTAMP:20260424T163651
CREATED:20260403T133524Z
LAST-MODIFIED:20260403T141824Z
UID:2499-1782412200-1782424800@xn--lesvoleursdelumire-6vb.com
SUMMARY:Réunion du club
DESCRIPTION:Soirée de clôture\n avec pique-nique au jardin de Wandlitz               \n  \n \n     
URL:https://xn--lesvoleursdelumire-6vb.com/evenements/reunion-du-club-4/
LOCATION:Pôle culturel\, 36 rue de la chapelle\, La Ferrière\, Vendée\, 85280\, France
END:VEVENT
END:VCALENDAR