BEGIN:VCALENDAR
VERSION:2.0
PRODID:-//Les voleurs de lumière - ECPv6.15.20//NONSGML v1.0//EN
CALSCALE:GREGORIAN
METHOD:PUBLISH
X-ORIGINAL-URL:https://xn--lesvoleursdelumire-6vb.com
X-WR-CALDESC:Évènements pour Les voleurs de lumière
REFRESH-INTERVAL;VALUE=DURATION:PT1H
X-Robots-Tag:noindex
X-PUBLISHED-TTL:PT1H
BEGIN:VTIMEZONE
TZID:Europe/Paris
BEGIN:DAYLIGHT
TZOFFSETFROM:+0100
TZOFFSETTO:+0200
TZNAME:CEST
DTSTART:20240331T010000
END:DAYLIGHT
BEGIN:STANDARD
TZOFFSETFROM:+0200
TZOFFSETTO:+0100
TZNAME:CET
DTSTART:20241027T010000
END:STANDARD
BEGIN:DAYLIGHT
TZOFFSETFROM:+0100
TZOFFSETTO:+0200
TZNAME:CEST
DTSTART:20250330T010000
END:DAYLIGHT
BEGIN:STANDARD
TZOFFSETFROM:+0200
TZOFFSETTO:+0100
TZNAME:CET
DTSTART:20251026T010000
END:STANDARD
BEGIN:DAYLIGHT
TZOFFSETFROM:+0100
TZOFFSETTO:+0200
TZNAME:CEST
DTSTART:20260329T010000
END:DAYLIGHT
BEGIN:STANDARD
TZOFFSETFROM:+0200
TZOFFSETTO:+0100
TZNAME:CET
DTSTART:20261025T010000
END:STANDARD
END:VTIMEZONE
BEGIN:VEVENT
DTSTART;VALUE=DATE:20250624
DTEND;VALUE=DATE:20251001
DTSTAMP:20260425T023732
CREATED:20250601T190323Z
LAST-MODIFIED:20250601T190457Z
UID:2315-1750723200-1759276799@xn--lesvoleursdelumire-6vb.com
SUMMARY:Histoire de Faire 4ème édition du
DESCRIPTION:Vernissage de notre exposition « A votre service » le 24 juin 2025
URL:https://xn--lesvoleursdelumire-6vb.com/evenements/histoire-de-faire-4eme-edition/
LOCATION:Vendée
END:VEVENT
BEGIN:VEVENT
DTSTART;TZID=Europe/Paris:20250919T183000
DTEND;TZID=Europe/Paris:20250919T193000
DTSTAMP:20260425T023732
CREATED:20251003T101309Z
LAST-MODIFIED:20251003T101313Z
UID:2367-1758306600-1758310200@xn--lesvoleursdelumire-6vb.com
SUMMARY:Réunion club
DESCRIPTION:Accueil nouveaux adhérents
URL:https://xn--lesvoleursdelumire-6vb.com/evenements/reunion-club/
LOCATION:28 rue de la chapelle 85280 La Ferriere\, 28 rue de la chapelle\, LA FERRIERE\, 85280\, France
END:VEVENT
END:VCALENDAR