BEGIN:VCALENDAR
VERSION:2.0
PRODID:-//Les voleurs de lumière - ECPv6.15.20//NONSGML v1.0//EN
CALSCALE:GREGORIAN
METHOD:PUBLISH
X-WR-CALNAME:Les voleurs de lumière
X-ORIGINAL-URL:https://xn--lesvoleursdelumire-6vb.com
X-WR-CALDESC:Évènements pour Les voleurs de lumière
REFRESH-INTERVAL;VALUE=DURATION:PT1H
X-Robots-Tag:noindex
X-PUBLISHED-TTL:PT1H
BEGIN:VTIMEZONE
TZID:Europe/Paris
BEGIN:DAYLIGHT
TZOFFSETFROM:+0100
TZOFFSETTO:+0200
TZNAME:CEST
DTSTART:20240331T010000
END:DAYLIGHT
BEGIN:STANDARD
TZOFFSETFROM:+0200
TZOFFSETTO:+0100
TZNAME:CET
DTSTART:20241027T010000
END:STANDARD
BEGIN:DAYLIGHT
TZOFFSETFROM:+0100
TZOFFSETTO:+0200
TZNAME:CEST
DTSTART:20250330T010000
END:DAYLIGHT
BEGIN:STANDARD
TZOFFSETFROM:+0200
TZOFFSETTO:+0100
TZNAME:CET
DTSTART:20251026T010000
END:STANDARD
BEGIN:DAYLIGHT
TZOFFSETFROM:+0100
TZOFFSETTO:+0200
TZNAME:CEST
DTSTART:20260329T010000
END:DAYLIGHT
BEGIN:STANDARD
TZOFFSETFROM:+0200
TZOFFSETTO:+0100
TZNAME:CET
DTSTART:20261025T010000
END:STANDARD
END:VTIMEZONE
BEGIN:VEVENT
DTSTART;TZID=Europe/Paris:20251211T183000
DTEND;TZID=Europe/Paris:20251211T203000
DTSTAMP:20260424T224702
CREATED:20251208T111300Z
LAST-MODIFIED:20251208T220125Z
UID:2402-1765477800-1765485000@xn--lesvoleursdelumire-6vb.com
SUMMARY:Réunion du club
DESCRIPTION:Après avoir démystifié les « ISO »\, nous poursuivrons à toute vitesse avec le temps d’exposition\nVisionnage du thème du mois : « Le sacré »\nLe point sur l’avancée des travaux des commissions\nConvivialité annoncée ?…..
URL:https://xn--lesvoleursdelumire-6vb.com/evenements/reunion-du-club-3/
LOCATION:Pôle culturel\, salle des Bruyères 36 rue de la Chapelle\, 36\, rue de la Chapelle\, LA FERRIERE\, 85280\, France
END:VEVENT
END:VCALENDAR